BEGIN:VCALENDAR
VERSION:2.0
PRODID:-//AORTIC AFRICA - ECPv6.15.19//NONSGML v1.0//EN
CALSCALE:GREGORIAN
METHOD:PUBLISH
X-ORIGINAL-URL:https://aortic-africa.org/ar/
X-WR-CALDESC:Events for AORTIC AFRICA
REFRESH-INTERVAL;VALUE=DURATION:PT1H
X-Robots-Tag:noindex
X-PUBLISHED-TTL:PT1H
BEGIN:VTIMEZONE
TZID:Africa/Johannesburg
BEGIN:STANDARD
TZOFFSETFROM:+0200
TZOFFSETTO:+0200
TZNAME:SAST
DTSTART:20250101T000000
END:STANDARD
END:VTIMEZONE
BEGIN:VEVENT
DTSTART;TZID=Africa/Johannesburg:20260422T080000
DTEND;TZID=Africa/Johannesburg:20260424T170000
DTSTAMP:20260423T211840
CREATED:20260121T192327Z
LAST-MODIFIED:20260121T192327Z
UID:10000039-1776844800-1777050000@aortic-africa.org
SUMMARY:مؤتمر AORTIC PALOP السابع 2026
DESCRIPTION:سيُعقد المؤتمر القادم AORTIC-PALOP السابع في مابوتو، موزمبيق من 22-24 أبريل 2026 – بتنظيم بالتعاون مع MISAU (وزارة الصحة في موزمبيق). \nتشمل الشركاء: MISAU، مؤسسات PALOP، المنظمات الدولية، CDC، IGCS، MD Anderson، WHO AFRO، Vital Strategies، ASCO، ISCO، Roche، جامعة Rice وغيرها. \nالمكان: فندق إندي فيليدج، مابوتو \nالمؤتمر التحضيري لـ IGCS \nورشة عمل لمدة 3 ساعات بالتعاون مع وزارة الصحة وPALOP-US حول NCCP \nلوسيو لارا سانتوس – رئيس البرنامج العلمي \n 
URL:https://aortic-africa.org/ar/event/%d9%85%d8%a4%d8%aa%d9%85%d8%b1-aortic-palop-%d8%a7%d9%84%d8%b3%d8%a7%d8%a8%d8%b9-2026/
LOCATION:Polana Serena Hotel\, 1380 Av. Julius Nyerere\, Maputo\, Mozambique\, Maputo\, Mozambique
CATEGORIES:المؤتمر
END:VEVENT
END:VCALENDAR