BEGIN:VCALENDAR
VERSION:2.0
PRODID:-//AORTIC AFRICA - ECPv6.15.19//NONSGML v1.0//EN
CALSCALE:GREGORIAN
METHOD:PUBLISH
X-WR-CALNAME:AORTIC AFRICA
X-ORIGINAL-URL:https://aortic-africa.org
X-WR-CALDESC:Events for AORTIC AFRICA
REFRESH-INTERVAL;VALUE=DURATION:PT1H
X-Robots-Tag:noindex
X-PUBLISHED-TTL:PT1H
BEGIN:VTIMEZONE
TZID:Africa/Johannesburg
BEGIN:STANDARD
TZOFFSETFROM:+0200
TZOFFSETTO:+0200
TZNAME:SAST
DTSTART:20250101T000000
END:STANDARD
END:VTIMEZONE
BEGIN:VEVENT
DTSTART;TZID=Africa/Johannesburg:20260212T140000
DTEND;TZID=Africa/Johannesburg:20260212T150000
DTSTAMP:20260424T151508
CREATED:20260209T133203Z
LAST-MODIFIED:20260209T133451Z
UID:10000069-1770904800-1770908400@aortic-africa.org
SUMMARY:AORTIC AORTICHORG SIG Quarterly Webinar Series - Part 1
DESCRIPTION:12 February 2026 \nVirtual online
URL:https://aortic-africa.org/event/aortic-aortichorg-sig-quarterly-webinar-series-part-1/
ATTACH;FMTTYPE=image/png:https://aortic-africa.org/wp-content/uploads/2026/02/fbinsta2-AORTICHORG-SIG-Quarterly-web-Ser-Part-1.png
END:VEVENT
BEGIN:VEVENT
DTSTART;TZID=Africa/Johannesburg:20260303T190000
DTEND;TZID=Africa/Johannesburg:20260303T200000
DTSTAMP:20260424T151508
CREATED:20260209T133836Z
LAST-MODIFIED:20260209T134314Z
UID:10000070-1772564400-1772568000@aortic-africa.org
SUMMARY:AORTIC North America Webinar Series - Part 16 (hosted by Massachusetts General Hospital Global Gastroenterology)
DESCRIPTION:AORTIC North America Webinar Series – Part 16 (hosted by Massachusetts General Hospital Global Gastroenterology) \n3 March 2026 \n19h00 SAST
URL:https://aortic-africa.org/event/aortic-north-america-webinar-series-part-16-hosted-by-massachusetts-general-hospital-global-gastroenterology/
ATTACH;FMTTYPE=image/png:https://aortic-africa.org/wp-content/uploads/2026/02/fbinsta4-NA-Series-Part-XVI-Massachusetts-Gen-Hosp-Glo-GastroE.png
END:VEVENT
BEGIN:VEVENT
DTSTART;TZID=Africa/Johannesburg:20260407T190000
DTEND;TZID=Africa/Johannesburg:20260407T200000
DTSTAMP:20260424T151508
CREATED:20260209T134125Z
LAST-MODIFIED:20260209T134508Z
UID:10000071-1775588400-1775592000@aortic-africa.org
SUMMARY:AORTIC North America Webinar Series - Part 17 (hosted by Massachusetts General Hospital Global Gastroenterology)
DESCRIPTION:AORTIC North America Webinar Series – Part 17 (hosted by Massachusetts General Hospital Global Gastroenterology) \nSession 2 \n7 April 2026 \n19h00 SAST \nVirtual online
URL:https://aortic-africa.org/event/aortic-north-america-webinar-series-part-17-hosted-by-massachusetts-general-hospital-global-gastroenterology/
ATTACH;FMTTYPE=image/png:https://aortic-africa.org/wp-content/uploads/2026/02/fbinsta-NA-Series-Part-XVII-Massachusetts-Session-2.png
END:VEVENT
BEGIN:VEVENT
DTSTART;TZID=Africa/Johannesburg:20260422T080000
DTEND;TZID=Africa/Johannesburg:20260424T170000
DTSTAMP:20260424T151508
CREATED:20260121T192327Z
LAST-MODIFIED:20260316T102815Z
UID:10000004-1776844800-1777050000@aortic-africa.org
SUMMARY:AORTIC PALOP VII conference 2026
DESCRIPTION:The next AORTIC-PALOP VII conference will be held in Maputo\, Mozambique from 22-24 April 2026 – organised in collaboration with MISAU (Ministry of Health of Mozambique). \nPartners include:  MISAU\, PALOP Institutions\, International Organisations\, CDC\, IGCS\, MD Anderson\, WHO AFRO\, Vital Strategies\, ASCO\, ISCO\, Roche\, Rice University and others. \nVenue: Polana Serena Hotel\, Maputo \nIGCS Pre-conference \n3hr workshop in collaboration with MOH & PALOP-US on NCCP \nLucio Lara Santos – Scientific Programme Chair \nMore details.
URL:https://aortic-africa.org/event/aortic-palop-vii-conference-2026/
LOCATION:Polana Serena Hotel\, 1380 Av. Julius Nyerere\, Maputo\, Mozambique\, Maputo\, Mozambique
CATEGORIES:Conference
END:VEVENT
BEGIN:VEVENT
DTSTART;TZID=Africa/Johannesburg:20260505T190000
DTEND;TZID=Africa/Johannesburg:20260505T200000
DTSTAMP:20260424T151508
CREATED:20260313T105705Z
LAST-MODIFIED:20260313T110153Z
UID:10000072-1778007600-1778011200@aortic-africa.org
SUMMARY:AORTIC North America Webinar Series - Part 18 (hosted by VCU Massey Comprehensive Cancer Centre)
DESCRIPTION:AORTIC North America Webinar Series – Part 18 (hosted by VCU Massey Comprehensive Cancer Centre) \n  \n5 May 2026 \n19h00 SAST \nVirtual online
URL:https://aortic-africa.org/event/aortic-north-america-webinar-series-part-18-hosted-by-vcu-massey-comprehensive-cancer-centre/
ATTACH;FMTTYPE=image/png:https://aortic-africa.org/wp-content/uploads/2026/03/AORTIC-NA-Series-fbinsta-Part-18-VCU-Massey.png
LOCATION:https://us02web.zoom.us/meeting/register/6Py2f2iYRFmhdA1LnpbEkA
END:VEVENT
END:VCALENDAR