BEGIN:VCALENDAR
VERSION:2.0
PRODID:-//AORTIC AFRICA - ECPv6.15.19//NONSGML v1.0//EN
CALSCALE:GREGORIAN
METHOD:PUBLISH
X-WR-CALNAME:AORTIC AFRICA
X-ORIGINAL-URL:https://aortic-africa.org
X-WR-CALDESC:Events for AORTIC AFRICA
REFRESH-INTERVAL;VALUE=DURATION:PT1H
X-Robots-Tag:noindex
X-PUBLISHED-TTL:PT1H
BEGIN:VTIMEZONE
TZID:Africa/Johannesburg
BEGIN:STANDARD
TZOFFSETFROM:+0200
TZOFFSETTO:+0200
TZNAME:SAST
DTSTART:20250101T000000
END:STANDARD
END:VTIMEZONE
BEGIN:VTIMEZONE
TZID:Africa/Lagos
BEGIN:STANDARD
TZOFFSETFROM:+0100
TZOFFSETTO:+0100
TZNAME:WAT
DTSTART:20250101T000000
END:STANDARD
END:VTIMEZONE
BEGIN:VEVENT
DTSTART;TZID=Africa/Johannesburg:20260505T190000
DTEND;TZID=Africa/Johannesburg:20260505T200000
DTSTAMP:20260424T002913
CREATED:20260313T105705Z
LAST-MODIFIED:20260313T110153Z
UID:10000072-1778007600-1778011200@aortic-africa.org
SUMMARY:AORTIC North America Webinar Series - Part 18 (hosted by VCU Massey Comprehensive Cancer Centre)
DESCRIPTION:AORTIC North America Webinar Series – Part 18 (hosted by VCU Massey Comprehensive Cancer Centre) \n  \n5 May 2026 \n19h00 SAST \nVirtual online
URL:https://aortic-africa.org/event/aortic-north-america-webinar-series-part-18-hosted-by-vcu-massey-comprehensive-cancer-centre/
ATTACH;FMTTYPE=image/png:https://aortic-africa.org/wp-content/uploads/2026/03/AORTIC-NA-Series-fbinsta-Part-18-VCU-Massey.png
LOCATION:https://us02web.zoom.us/meeting/register/6Py2f2iYRFmhdA1LnpbEkA
END:VEVENT
BEGIN:VEVENT
DTSTART;TZID=Africa/Johannesburg:20260707T190000
DTEND;TZID=Africa/Johannesburg:20260707T200000
DTSTAMP:20260424T002913
CREATED:20260313T110635Z
LAST-MODIFIED:20260313T112104Z
UID:10000073-1783450800-1783454400@aortic-africa.org
SUMMARY:AORTIC North America Webinar Series - Part 19 (hosted by Memorial Sloan Kettering Cancer Center)
DESCRIPTION:AORTIC North America Webinar Series – Part 19 (hosted by Memorial Sloan Kettering Cancer Center) \n  \n7 July 2026 \n19h00 SAST \nVirtual online
URL:https://aortic-africa.org/event/aortic-north-america-webinar-series-part-19-hosted-by-memorial-sloan-kettering-cancer-center/
ATTACH;FMTTYPE=image/png:https://aortic-africa.org/wp-content/uploads/2026/03/NA-Series-Part-XIX-fbinsta-Part-19-Mem-Sloan-Kettering.png
LOCATION:https://us02web.zoom.us/meeting/register/XS6kPUjoTK-aEtTxpmT2DQ
END:VEVENT
BEGIN:VEVENT
DTSTART;TZID=Africa/Lagos:20260710T080000
DTEND;TZID=Africa/Lagos:20260711T170000
DTSTAMP:20260424T002913
CREATED:20260122T133633Z
LAST-MODIFIED:20260122T133633Z
UID:10000003-1783670400-1783789200@aortic-africa.org
SUMMARY:Best of ASCO AFRICA 2026
DESCRIPTION:Best of ASCO Africa conference\, taking place in Abuja\, Nigeria\, on July 10-11\, 2026. \nThis conference aims to bring the latest\, most clinically impactful abstracts from the 2026 ASCO Annual Meeting to African oncologists\, fostering a collaborative environment to discuss practice gaps and potential solutions for accessing innovative therapies\, technologies\, and resources.
URL:https://aortic-africa.org/event/best-of-asco-africa-2026/
LOCATION:Abuja\, Nigeria\, Abuja\, Nigeria
ATTACH;FMTTYPE=image/jpeg:https://aortic-africa.org/wp-content/uploads/2025/12/OfficiallyLicensed_BOA-CMYK-scaled.jpg
END:VEVENT
BEGIN:VEVENT
DTSTART;VALUE=DATE:20271106
DTEND;VALUE=DATE:20271110
DTSTAMP:20260424T002913
CREATED:20260130T110708Z
LAST-MODIFIED:20260130T110708Z
UID:10000066-1825459200-1825804799@aortic-africa.org
SUMMARY:AORTIC 2027 International Conference
DESCRIPTION:Kenya \n6-9 November 2027 \nwww.aorticconference.org
URL:https://aortic-africa.org/event/aortic-2027-international-conference/
LOCATION:Kenya\, Kenya
END:VEVENT
END:VCALENDAR