BEGIN:VCALENDAR
VERSION:2.0
PRODID:-//AORTIC AFRICA - ECPv6.15.19//NONSGML v1.0//EN
CALSCALE:GREGORIAN
METHOD:PUBLISH
X-WR-CALNAME:AORTIC AFRICA
X-ORIGINAL-URL:https://aortic-africa.org/fr/
X-WR-CALDESC:Évènements pour AORTIC AFRICA
REFRESH-INTERVAL;VALUE=DURATION:PT1H
X-Robots-Tag:noindex
X-PUBLISHED-TTL:PT1H
BEGIN:VTIMEZONE
TZID:Africa/Johannesburg
BEGIN:STANDARD
TZOFFSETFROM:+0200
TZOFFSETTO:+0200
TZNAME:SAST
DTSTART:20250101T000000
END:STANDARD
END:VTIMEZONE
BEGIN:VEVENT
DTSTART;TZID=Africa/Johannesburg:20260422T080000
DTEND;TZID=Africa/Johannesburg:20260424T170000
DTSTAMP:20260423T211942
CREATED:20260121T192327Z
LAST-MODIFIED:20260121T192327Z
UID:10000038-1776844800-1777050000@aortic-africa.org
SUMMARY:Conférence AORTIC PALOP VII 2026
DESCRIPTION:La prochaine conférence AORTIC-PALOP VII se tiendra à Maputo\, Mozambique du 22 au 24 avril 2026 – organisée en collaboration avec le MISAU (Ministère de la Santé du Mozambique). \nPartenaires : MISAU\, institutions des PALOP\, organisations internationales\, CDC\, IGCS\, MD Anderson\, OMS AFRO\, Vital Strategies\, ASCO\, ISCO\, Roche\, Rice University et autres. \nLieu : Indy Village Hotel\, Maputo \nPré-conférence IGCS \nAtelier de 3 heures en collaboration avec le Ministère de la Santé et PALOP-US sur le PCCN \nLucio Lara Santos – Président du programme scientifique \n 
URL:https://aortic-africa.org/fr/event/conference-aortic-palop-vii-2026/
LOCATION:Polana Serena Hotel\, 1380 Av. Julius Nyerere\, Maputo\, Mozambique\, Maputo\, Mozambique
CATEGORIES:Conférence
END:VEVENT
END:VCALENDAR