BEGIN:VCALENDAR
VERSION:2.0
PRODID:-//AORTIC AFRICA - ECPv6.15.19//NONSGML v1.0//EN
CALSCALE:GREGORIAN
METHOD:PUBLISH
X-ORIGINAL-URL:https://aortic-africa.org/fr/
X-WR-CALDESC:Évènements pour AORTIC AFRICA
REFRESH-INTERVAL;VALUE=DURATION:PT1H
X-Robots-Tag:noindex
X-PUBLISHED-TTL:PT1H
BEGIN:VTIMEZONE
TZID:Africa/Lagos
BEGIN:STANDARD
TZOFFSETFROM:+0100
TZOFFSETTO:+0100
TZNAME:WAT
DTSTART:20250101T000000
END:STANDARD
END:VTIMEZONE
BEGIN:VEVENT
DTSTART;TZID=Africa/Lagos:20260710T080000
DTEND;TZID=Africa/Lagos:20260711T170000
DTSTAMP:20260424T003230
CREATED:20260122T133633Z
LAST-MODIFIED:20260122T133633Z
UID:10000052-1783670400-1783789200@aortic-africa.org
SUMMARY:Le meilleur d'ASCO Afrique 2026
DESCRIPTION:Conférence Le meilleur d’ASCO Afrique\, qui se tiendra à Abuja\, Nigéria\, les 10 et 11 juillet 2026. \nCette conférence vise à présenter aux oncologues africains les résumés les plus récents et les plus pertinents sur le plan clinique de la réunion annuelle de l’ASCO 2026\, en favorisant un environnement de collaboration pour discuter des lacunes dans la pratique et des solutions potentielles pour accéder aux thérapies\, technologies et ressources innovantes.
URL:https://aortic-africa.org/fr/event/le-meilleur-dasco-afrique-2026/
LOCATION:Abuja\, Nigeria\, Abuja\, Nigeria
ATTACH;FMTTYPE=image/jpeg:https://aortic-africa.org/wp-content/uploads/2025/12/OfficiallyLicensed_BOA-CMYK-scaled.jpg
END:VEVENT
END:VCALENDAR