BEGIN:VCALENDAR
VERSION:2.0
PRODID:-//AORTIC AFRICA - ECPv6.15.19//NONSGML v1.0//EN
CALSCALE:GREGORIAN
METHOD:PUBLISH
X-ORIGINAL-URL:https://aortic-africa.org/fr/
X-WR-CALDESC:Évènements pour AORTIC AFRICA
REFRESH-INTERVAL;VALUE=DURATION:PT1H
X-Robots-Tag:noindex
X-PUBLISHED-TTL:PT1H
BEGIN:VTIMEZONE
TZID:Africa/Johannesburg
BEGIN:STANDARD
TZOFFSETFROM:+0200
TZOFFSETTO:+0200
TZNAME:SAST
DTSTART:20240101T000000
END:STANDARD
END:VTIMEZONE
BEGIN:VEVENT
DTSTART;TZID=Africa/Johannesburg:20251127T080000
DTEND;TZID=Africa/Johannesburg:20251127T170000
DTSTAMP:20260424T003004
CREATED:20260127T094201Z
LAST-MODIFIED:20260127T094201Z
UID:10000045-1764230400-1764262800@aortic-africa.org
SUMMARY:Session AORTIC 2 au London Global Cancer Week 2025
DESCRIPTION:  \nSession AORTIC 2 au London Global Cancer Week 2025 :  \nPoints saillants de la recherche d’AORTIC 2025 \n27 novembre 2025
URL:https://aortic-africa.org/fr/event/session-aortic-2-au-london-global-cancer-week-2025/
ATTACH;FMTTYPE=image/png:https://aortic-africa.org/wp-content/uploads/2026/01/fbinsta-27-Nov-2025_LGCW-Research-highlights-from-the-AORTIC-2025-conference-flyer.png
END:VEVENT
BEGIN:VEVENT
DTSTART;TZID=Africa/Johannesburg:20251125T080000
DTEND;TZID=Africa/Johannesburg:20251125T170000
DTSTAMP:20260424T003004
CREATED:20260127T094338Z
LAST-MODIFIED:20260127T094338Z
UID:10000049-1764057600-1764090000@aortic-africa.org
SUMMARY:Session AORTIC 1 à la Semaine mondiale du cancer de Londres 2025
DESCRIPTION:  \nSession AORTIC 1 à la Semaine mondiale du cancer de Londres 2025 : \nSoins oncologiques dans les zones de conflit en Afrique \n25 novembre 2025
URL:https://aortic-africa.org/fr/event/session-aortic-1-a-la-semaine-mondiale-du-cancer-de-londres-2025/
ATTACH;FMTTYPE=image/png:https://aortic-africa.org/wp-content/uploads/2026/01/fbinsta2-25-Nov-2025-LGCW_Cancer-care-in-conflict-zones-Africa-dispatches-from-the-ground.png
END:VEVENT
BEGIN:VEVENT
DTSTART;TZID=Africa/Johannesburg:20250917T160000
DTEND;TZID=Africa/Johannesburg:20250917T170000
DTSTAMP:20260424T003004
CREATED:20260122T133524Z
LAST-MODIFIED:20260122T133524Z
UID:10000051-1758124800-1758128400@aortic-africa.org
SUMMARY:Comité E&T AORTIC : Méthodes en oncologie\, partie 4
DESCRIPTION:Comité E&T AORTIC : Méthodes en oncologie \nPartie 4 : Méthodes en oncologie
URL:https://aortic-africa.org/fr/event/comite-et-aortic-methodes-en-oncologie-partie-4/
ATTACH;FMTTYPE=image/png:https://aortic-africa.org/wp-content/uploads/2026/01/fbinsta-3-AORTIC-ET-Com-Methods-in-Oncology-Part-4.png
END:VEVENT
BEGIN:VEVENT
DTSTART;TZID=Africa/Johannesburg:20250903T160000
DTEND;TZID=Africa/Johannesburg:20250903T170000
DTSTAMP:20260424T003004
CREATED:20260122T133731Z
LAST-MODIFIED:20260122T133731Z
UID:10000029-1756915200-1756918800@aortic-africa.org
SUMMARY:Comité E&T de l'AORTIC : Méthodes en oncologie\, partie 3
DESCRIPTION:Comité E&T de l’AORTIC : Méthodes en oncologie \nPartie 3 : Importance de la recherche qualitative en oncologie
URL:https://aortic-africa.org/fr/event/comite-et-de-laortic-methodes-en-oncologie-partie-3/
ATTACH;FMTTYPE=image/png:https://aortic-africa.org/wp-content/uploads/2026/01/fbinsta-Methods-in-Onc-Part-3.png
END:VEVENT
BEGIN:VEVENT
DTSTART;TZID=Africa/Johannesburg:20250827T160000
DTEND;TZID=Africa/Johannesburg:20250827T170000
DTSTAMP:20260424T003004
CREATED:20260122T133813Z
LAST-MODIFIED:20260122T133813Z
UID:10000032-1756310400-1756314000@aortic-africa.org
SUMMARY:Comité E & T aortique : Méthodes en oncologie\, partie 2
DESCRIPTION:Comité d’éducation et de formation de l’AORTIC : Méthodes en oncologie \nPartie 2 : Évaluation critique des essais randomisés et contrôlés en oncologie basée sur les principes de l’OSC \n 
URL:https://aortic-africa.org/fr/event/comite-e-t-aortique-methodes-en-oncologie-partie-2/
ATTACH;FMTTYPE=image/png:https://aortic-africa.org/wp-content/uploads/2026/01/fbinsta_27-Aug-2025_Methods-in-Oncology-Seminar-2.png
END:VEVENT
BEGIN:VEVENT
DTSTART;TZID=Africa/Johannesburg:20250821T080000
DTEND;TZID=Africa/Johannesburg:20250821T170000
DTSTAMP:20260424T003004
CREATED:20260127T094631Z
LAST-MODIFIED:20260127T094631Z
UID:10000016-1755763200-1755795600@aortic-africa.org
SUMMARY:Webinaire Afrique centrale 2025
DESCRIPTION:  \nWebinaire Afrique centrale 2025 \n(webinaire) \n21 août 2025
URL:https://aortic-africa.org/fr/event/webinaire-afrique-centrale-2025/
ATTACH;FMTTYPE=image/png:https://aortic-africa.org/wp-content/uploads/2026/01/fbinsta-AORTIC-Central-Africa-Webinar-21-August-2025.png
END:VEVENT
BEGIN:VEVENT
DTSTART;TZID=Africa/Johannesburg:20250813T160000
DTEND;TZID=Africa/Johannesburg:20250813T170000
DTSTAMP:20260424T003004
CREATED:20260122T133922Z
LAST-MODIFIED:20260122T133922Z
UID:10000028-1755100800-1755104400@aortic-africa.org
SUMMARY:Comité E&T de l'AORTIC : Série Méthodes en oncologie
DESCRIPTION:  \nComité d’éducation et de formation de l’AORTIC : Série Méthodes en oncologie \nPartie 1 : Comment évaluer de manière critique les méta-analyses d’essais contrôlés randomisés en oncologie : Une discussion de cas clinique \n 
URL:https://aortic-africa.org/fr/event/comite-et-de-laortic-serie-methodes-en-oncologie/
ATTACH;FMTTYPE=image/png:https://aortic-africa.org/wp-content/uploads/2026/01/fbinsta-AORTIC-ET-Comm_-Methods-in-Oncology-Part-1.png
END:VEVENT
BEGIN:VEVENT
DTSTART;TZID=Africa/Johannesburg:20250812T080000
DTEND;TZID=Africa/Johannesburg:20250816T170000
DTSTAMP:20260424T003004
CREATED:20260122T134959Z
LAST-MODIFIED:20260122T134959Z
UID:10000023-1754985600-1755363600@aortic-africa.org
SUMMARY:Conférence annuelle AHPBCC 2025
DESCRIPTION:Conférence annuelle AHPBCC 2025\n12 – 16 août 2025\nProtea Wanderers Hotel and Conference Centre Johannesburg
URL:https://aortic-africa.org/fr/event/conference-annuelle-ahpbcc-2025/
LOCATION:Protea Wanderers Hotel and Conference Centre Johannesburg\, Johannesburg\, Gauteng\, South Africa
ATTACH;FMTTYPE=image/jpeg:https://aortic-africa.org/wp-content/uploads/2026/01/AHPBCC-conference-2025-Flyer.jpg
END:VEVENT
BEGIN:VEVENT
DTSTART;TZID=Africa/Johannesburg:20250722T080000
DTEND;TZID=Africa/Johannesburg:20250724T170000
DTSTAMP:20260424T003004
CREATED:20260122T135607Z
LAST-MODIFIED:20260122T135607Z
UID:10000025-1753171200-1753376400@aortic-africa.org
SUMMARY:Symposium sur la recherche fondamentale et translationnelle sur le cancer
DESCRIPTION:  \n22-24 juillet 2025 \nGhana College Auditorium\, Accra\, Ghana
URL:https://aortic-africa.org/fr/event/symposium-sur-la-recherche-fondamentale-et-translationnelle-sur-le-cancer/
LOCATION:Ghana College Auditorium\, Accra Ghana\, Accra\, Ghana
ATTACH;FMTTYPE=image/png:https://aortic-africa.org/wp-content/uploads/2026/01/Title-and-sponsors.png
END:VEVENT
BEGIN:VEVENT
DTSTART;TZID=Africa/Johannesburg:20250627T080000
DTEND;TZID=Africa/Johannesburg:20250628T180000
DTSTAMP:20260424T003004
CREATED:20251218T070445Z
LAST-MODIFIED:20251218T070445Z
UID:10000017-1751011200-1751133600@aortic-africa.org
SUMMARY:LE MEILLEUR D'ASCO AFRIQUE
DESCRIPTION:Rejoignez-nous à Addis-Abeba\, en Éthiopie\, pour le Best of ASCO Africa les 27 et 28 juin !\nBest of ASCO®\, une revue officielle de la réunion annuelle de l’American Society of Clinical Oncology® (ASCO®)\, est un programme de deux jours conçu pour fournir les dernières informations scientifiques et pédagogiques issues du premier événement mondial d’oncologie\, la réunion annuelle de l’ASCO®. Les résumés sélectionnés pour la présentation et la discussion reflètent les recherches et les stratégies les plus importantes en oncologie qui auront un impact sur la pratique clinique et les soins aux patients. Le programme comprend une discussion et une analyse approfondies des dernières découvertes scientifiques dans les principaux sites de la maladie et des avancées en matière de traitement du cancer qui modifient la pratique. Des professeurs experts examineront les résultats\, discuteront de l’impact potentiel des résultats sur la norme de soins actuelle et appliqueront les résultats dans le contexte clinique d’un cas de patient.    \nInscrivez-vous ici !\nL’inscription à cet événement est gratuite. Veuillez vous inscrire pour faciliter notre planification.  \n\nOrdre du jour\nVeuillez noter que tous les horaires sont indiqués en heure d’Afrique de l’Est (EAT). \nVendredi 27 juin 2025 Santé des femmes et des hommes – Cancer du sein/GU/Gyn\n\n\n\n\n\nJour 1 \nHeure\nDescription\n\n\n\n\n8 h 00\nBienvenue et mise au point – Abiola Ibraheem\n\n\n8 h 15\nAnalyse des preuves dans les directives harmonisées du NCCN pour l’Afrique subsaharienne – Geoffrey Buckle \nSession sur le cancer du sein au stade précoce\n\n\n8 h 30\nPrésentation des données de l’ASCO – Manel Haj Mansour\n\n\n9 h 00\nCommentateur des données – Sitna Mwanzi\n\n\n9 h 30\nTable ronde animée par des oncologues expérimentés\nMichael Warso\, Mansoor Saleh\nModératrice – Miriam Mutebi\n\n\n\nSession sur le cancer du sein métastatique\n\n\n10 h 00\nPrésentation des données de l’ASCO – Zahra Mohamed\n\n\n10 h 30\nCommentatrice des données – Atara Ntekim\n\n\n11 h 00\nTable ronde animée par des oncologues expérimentés – Verna Vanderpuye\, Abdu Yesufe\, Nazik Hammad\nModératrice – Atara Ntekim\n\n\n11 h 30 – 12 h 30\nDÉJEUNER\n\n\n\nSession sur le cancer génito-urinaire\n\n\n13 h 00\nPrésentation des données de l’ASCO sur le cancer GU (prostate/testiculaire) – Tsion Zebdiwos\n\n\n13 h 30\nCommentateur des données GU (prostate/testiculaire) – Mohamed Ibrahim\n\n\n14 h 00\nPrésentation des données de l’ASCO sur le cancer GU (rein/vessie) – Musliu Tolani\n\n\n14 h 30\nCommentateur des données sur le cancer GU (rein/vessie) – Ademola Oyekan\n\n\n15 h 00\nTable ronde animée par des oncologues expérimentés.\nSerigne Magueye Gueye\nModérateur – Munir Awol\n\n\n\nSession sur le cancer gynécologique\n\n\n15 h 30\nPrésentation des données de l’ASCO – Bolanle Comfort Adegboyega\n\n\n16 h 00\nCommentateur des données – Ibraheem Awowole\n\n\n16 h 30\nTable ronde animée par des oncologues expérimentés.\nJulie Ann Francis\, Bethel Dereje\nModératrice – Khadija Warfa\n\n\n17 h 00\nPAUSE\n\n\n17 h 15 – 18 h 00 \n18 h 00\nTable ronde sur l’accès africain aux thérapies/technologies innovantes.\nModérateurs – Abiola Ibraheem\, Vuyo Mjekula\, Deepak AroraOpportunités de formation AORTIC/ASCO sur le continent -Vanessa Sarchet\n\n\n18 h 15\nCLÔTURE
URL:https://aortic-africa.org/fr/event/le-meilleur-dasco-afrique/
LOCATION:Capital Hotel and Spa\, Addis Ababa\, Ethiopia\, ET 1878\, 22 Haile Gebre Silase St\, Addis Ababa\, Ethiopia
CATEGORIES:Best of ASCO,Événements clés de l'AORTIC
ATTACH;FMTTYPE=image/jpeg:https://aortic-africa.org/wp-content/uploads/2025/12/OfficiallyLicensed_BOA-CMYK-scaled.jpg
END:VEVENT
BEGIN:VEVENT
DTSTART;TZID=Africa/Johannesburg:20250427T160000
DTEND;TZID=Africa/Johannesburg:20250427T170000
DTSTAMP:20260424T003004
CREATED:20260121T192409Z
LAST-MODIFIED:20260127T094948Z
UID:10000041-1745769600-1745773200@aortic-africa.org
SUMMARY:Conférence AORTIC AACR 2025
DESCRIPTION:Conférence AORTIC AACR 2025 \n (webinaire) \n 
URL:https://aortic-africa.org/fr/event/conference-aortic-aacr-2025/
ATTACH;FMTTYPE=image/png:https://aortic-africa.org/wp-content/uploads/2026/01/fbinsta-2-AORTIC-AACR-Meeting-27-April-2025.png
END:VEVENT
END:VCALENDAR