BEGIN:VCALENDAR
VERSION:2.0
PRODID:-//AORTIC AFRICA - ECPv6.15.19//NONSGML v1.0//EN
CALSCALE:GREGORIAN
METHOD:PUBLISH
X-WR-CALNAME:AORTIC AFRICA
X-ORIGINAL-URL:https://aortic-africa.org/pt-pt/
X-WR-CALDESC:Eventos para AORTIC AFRICA
REFRESH-INTERVAL;VALUE=DURATION:PT1H
X-Robots-Tag:noindex
X-PUBLISHED-TTL:PT1H
BEGIN:VTIMEZONE
TZID:Africa/Johannesburg
BEGIN:STANDARD
TZOFFSETFROM:+0200
TZOFFSETTO:+0200
TZNAME:SAST
DTSTART:20250101T000000
END:STANDARD
END:VTIMEZONE
BEGIN:VTIMEZONE
TZID:Africa/Lagos
BEGIN:STANDARD
TZOFFSETFROM:+0100
TZOFFSETTO:+0100
TZNAME:WAT
DTSTART:20250101T000000
END:STANDARD
END:VTIMEZONE
BEGIN:VEVENT
DTSTART;TZID=Africa/Johannesburg:20260422T080000
DTEND;TZID=Africa/Johannesburg:20260424T170000
DTSTAMP:20260423T230452
CREATED:20260121T192327Z
LAST-MODIFIED:20260121T192327Z
UID:10000047-1776844800-1777050000@aortic-africa.org
SUMMARY:VII conferência AORTIC PALOP 2026
DESCRIPTION:A próxima conferência AORTIC-PALOP VII realizar-se-á em Maputo\, Moçambique de 22 a 24 de abril de 2026 – organizada em colaboração com o MISAU (Ministério da Saúde de Moçambique). \nOs parceiros incluem: MISAU\, Instituições PALOP\, Organizações Internacionais\, CDC\, IGCS\, MD Anderson\, OMS AFRO\, Vital Strategies\, ASCO\, ISCO\, Roche\, Rice University e outros. \nLocal: Indy Village Hotel\, Maputo \nPré-conferência IGCS \nWorkshop de 3 horas em colaboração com o Ministério da Saúde e PALOP-EUA sobre o NCCP \nLucio Lara Santos – Presidente do Programa Científico \n 
URL:https://aortic-africa.org/pt-pt/event/vii-conferencia-aortic-palop-2026/
LOCATION:Polana Serena Hotel\, 1380 Av. Julius Nyerere\, Maputo\, Mozambique\, Maputo\, Mozambique
CATEGORIES:Conferência
END:VEVENT
BEGIN:VEVENT
DTSTART;TZID=Africa/Lagos:20260710T080000
DTEND;TZID=Africa/Lagos:20260711T170000
DTSTAMP:20260423T230452
CREATED:20260122T133633Z
LAST-MODIFIED:20260122T133633Z
UID:10000035-1783670400-1783789200@aortic-africa.org
SUMMARY:O Melhor da ASCO AFRICA 2026
DESCRIPTION:A conferência O Melhor da ASCO Africa\, que se realiza em Abuja\, Nigéria\, de 10 a 11 de julho de 2026. \nEsta conferência tem como objetivo apresentar os resumos mais recentes e com maior impacto clínico do Encontro Anual da ASCO de 2026 aos oncologistas africanos\, promovendo um ambiente colaborativo para discutir lacunas na prática e potenciais soluções para aceder a terapias\, tecnologias e recursos inovadores.
URL:https://aortic-africa.org/pt-pt/event/o-melhor-da-asco-africa-2026/
LOCATION:Abuja\, Nigeria\, Abuja\, Nigeria
ATTACH;FMTTYPE=image/jpeg:https://aortic-africa.org/wp-content/uploads/2025/12/OfficiallyLicensed_BOA-CMYK-scaled.jpg
END:VEVENT
END:VCALENDAR